BEGIN:VCALENDAR
VERSION:2.0
PRODID:gruene-groebenzell.de
METHOD:PUBLISH
BEGIN:VTIMEZONE
TZID:Europe/Berlin
X-LIC-LOCATION:Europe/Berlin
BEGIN:DAYLIGHT
TZOFFSETFROM:+0100
TZOFFSETTO:+0200
TZNAME:CEST
DTSTART:19700329T020000
RRULE:FREQ=YEARLY;INTERVAL=1;BYDAY=-1SU;BYMONTH=3
END:DAYLIGHT
BEGIN:STANDARD
TZOFFSETFROM:+0200
TZOFFSETTO:+0100
TZNAME:CET
DTSTART:19701025T030000
RRULE:FREQ=YEARLY;INTERVAL=1;BYDAY=-1SU;BYMONTH=10
END:STANDARD
END:VTIMEZONE
BEGIN:VEVENT
UID:1b12e7dc206d634cff421d59174e5527@gruene-groebenzell.de
URL;VALUE=URI:https://gruene-groebenzell.de/termine/info-abend-wie-kann-i
 ch-mich-politisch-engagieren/
LOCATION:SC Stüberl Freizeitheim, Wildmoosstrasse, Gröbenzell
SUMMARY:Info-Abend: Wie kann ich mich politisch engagieren?
DESCRIPTION;ALTREP="data:text/html,%0A%3Cp%3E%3Cstrong%3EKommunalpolitik%
 20%E2%80%93%20Langweilig%3F%20Denkste%21%20Warum%20du%20dich%20jetzt%20en
 gagieren%20solltest%3C%2Fstrong%3E%3C%2Fp%3E%0A%0A%0A%0A%3Cp%3EDie%20letz
 te%20Bundestagswahl%20hat%E2%80%99s%20gezeigt%3A%20Politik%20ist%20im%20W
 andel.%20W%C3%A4hlerinnen%20und%20W%C3%A4hler%20setzen%20neue%20Priorit%C
 3%A4ten%2C%20Parteien%20k%C3%A4mpfen%20um%20Vertrauen%2C%20und%20wer%20da
 chte%2C%20alles%20bleibt%20beim%20Alten%2C%20wurde%20eines%20Besseren%20b
 elehrt.%20Doch%20w%C3%A4hrend%20in%20Berlin%20gro%C3%9Fe%20Reden%20geschw
 ungen%20werden%2C%20fallen%20die%20wirklich%20sp%C3%BCrbaren%20Entscheidu
 ngen%20oft%20viel%20n%C3%A4her%20%E2%80%93%20direkt%20vor%20deiner%20Haus
 t%C3%BCr.%3C%2Fp%3E%0A%0A%0A%0A%3Cp%3EUnd%20genau%20da%20kommst%20du%20in
 s%20Spiel%21%3C%2Fp%3E%0A%0A%0A%0A%3Cp%3E%3Cstrong%3EWas%20hat%20Kommunal
 politik%20mit%20mir%20zu%20tun%3F%3C%2Fstrong%3E%3C%2Fp%3E%0A%0A%0A%0A%3C
 p%3EMehr%20als%20du%20denkst.%20Wo%20kommt%20das%20neue%20Wohngebiet%20hi
 n%3F%20Gibt%20es%20genug%20Kita-Pl%C3%A4tze%3F%20Wie%20l%C3%A4uft%E2%80%9
 9s%20mit%20dem%20%C3%96PNV%3F%20Wo%20geht%E2%80%99s%20mit%20der%20Energie
 wende%20in%20deiner%20Stadt%20wirklich%20voran%3F%20Das%20sind%20keine%20
 Fragen%20f%C3%BCr%20ferne%20Parteizentralen%2C%20sondern%20f%C3%BCr%20Men
 schen%20wie%20dich%20%E2%80%93%20direkt%20in%20deiner%20Gemeinde%20oder%2
 0Stadt.%3C%2Fp%3E%0A%0A%0A%0A%3Cp%3EJa%2C%20wir%20wissen%2C%20%E2%80%9EPo
 litik%E2%80%9C%20kann%20nach%20endlosen%20Sitzungen%20und%20komplizierten
 %20Paragraphen%20klingen.%20Aber%20hier%20geht%E2%80%99s%20nicht%20um%20l
 angwierige%20Koalitionsverhandlungen%2C%20sondern%20um%20ganz%20praktisch
 e%20Dinge%3A%20Wie%20beleben%20wir%20die%20Innenstadt%3F%20Wie%20bleibt%2
 0unser%20Freibad%20erhalten%3F%20Und%2C%20ganz%20ehrlich%3A%20Wer%2C%20we
 nn%20nicht%20du%2C%20k%C3%B6nnte%20das%20besser%20entscheiden%3F%3C%2Fp%3
 E%0A%0A%0A%0A%3Cp%3E%3Cstrong%3EAber%20ich%20habe%20doch%20keine%20Ahnung
 %20von%20Politik%21%3C%2Fstrong%3E%3C%2Fp%3E%0A%0A%0A%0A%3Cp%3EKeine%20So
 rge%2C%20das%20ging%20allen%20mal%20so%20%E2%80%93%20auch%20den%20erfahre
 nen%20Gemeinder%C3%A4ten%2C%20die%20bei%20unserem%20Treffen%20Rede%20und%
 20Antwort%20stehen.%20Sie%20erz%C3%A4hlen%2C%20wie%20sie%20angefangen%20h
 aben%2C%20was%20sie%20gelernt%20haben%20und%20warum%20Kommunalpolitik%20m
 ehr%20Rock%E2%80%99n%E2%80%99Roll%20ist%2C%20als%20man%20denkt.%3C%2Fp%3E
 %0A%0A%0A%0A%3Cp%3EDie%20Wahrheit%20ist%3A%20Politik%20ist%20kein%20exklu
 siver%20Club%20f%C3%BCr%20Juristen%20und%20Verwaltungsprofis.%20Kommunalp
 olitik%20lebt%20von%20Menschen%20mit%20Herzblut%2C%20Ideen%20und%20Tatend
 rang%20%E2%80%93%20also%20genau%20von%20Leuten%20wie%20dir%21%3C%2Fp%3E%0
 A%0A%0A%0A%3Cp%3E%3Cstrong%3ENoch%20nicht%20%C3%BCberzeugt%3F%20Dann%20ko
 mm%20vorbei%21%3C%2Fstrong%3E%3C%2Fp%3E%0A%0A%0A%0A%3Cp%3EWir%20laden%20d
 ich%20herzlich%20ein%20zu%20einer%20offenen%20Gespr%C3%A4chsrunde%20mit%2
 0engagierten%20Kommunalpolitikerinnen%20und%20-politikern%20aus%20deiner%
 20Region.%20Keine%20steifen%20Reden%2C%20keine%20Fachchinesisch-Debatten%
 20%E2%80%93%20einfach%20ein%20lockerer%20Austausch%20%C3%BCber%20das%2C%2
 0was%20wirklich%20z%C3%A4hlt%3A%20Deine%20Stadt%2C%20dein%20Viertel%2C%20
 deine%20Ideen.%3C%2Fp%3E%0A%0A%0A%0A%3Cp%3EKomm%20vorbei%2C%20stell%20dei
 ne%20Fragen%2C%20erfahre%20aus%20erster%20Hand%2C%20wie%20du%20mitgestalt
 en%20kannst.%20Und%20wer%20wei%C3%9F%3F%20Vielleicht%20stehst%20du%20ja%2
 0bei%20der%20n%C3%A4chsten%20Wahl%20selbst%20auf%20dem%20Wahlzettel%21%3C
 %2Fp%3E%0A%0A%0A%0A%3Cp%3E%3Cstrong%3EDenn%20eines%20ist%20sicher%3A%20We
 nn%20du%20dich%20nicht%20einmischst%2C%20machen%E2%80%99s%20andere.%3C%2F
 strong%3E%3C%2Fp%3E%0A":Kommunalpolitik – Langweilig? Denkste! Warum du
  dich jetzt engagieren solltest\n\nDie letzte Bundestagswahl hat’s geze
 igt: Politik ist im Wandel. Wählerinnen und Wähler setzen neue Priorit
 äten\, Parteien kämpfen um Vertrauen\, und wer dachte\, alles bleibt be
 im Alten\, wurde eines Besseren belehrt. Doch während in Berlin große R
 eden geschwungen werden\, fallen die wirklich spürbaren Entscheidungen o
 ft viel näher – direkt vor deiner Haustür.\n\nUnd genau da kommst du 
 ins Spiel!\n\nWas hat Kommunalpolitik mit mir zu tun?\n\nMehr als du denk
 st. Wo kommt das neue Wohngebiet hin? Gibt es genug Kita-Plätze? Wie lä
 uft’s mit dem ÖPNV? Wo geht’s mit der Energiewende in deiner Stadt w
 irklich voran? Das sind keine Fragen für ferne Parteizentralen\, sondern
  für Menschen wie dich – direkt in deiner Gemeinde oder Stadt.\n\nJa\,
  wir wissen\, „Politik“ kann nach endlosen Sitzungen und komplizierte
 n Paragraphen klingen. Aber hier geht’s nicht um langwierige Koalitions
 verhandlungen\, sondern um ganz praktische Dinge: Wie beleben wir die Inn
 enstadt? Wie bleibt unser Freibad erhalten? Und\, ganz ehrlich: Wer\, wen
 n nicht du\, könnte das besser entscheiden?\n\nAber ich habe doch keine 
 Ahnung von Politik!\n\nKeine Sorge\, das ging allen mal so – auch den e
 rfahrenen Gemeinderäten\, die bei unserem Treffen Rede und Antwort stehe
 n. Sie erzählen\, wie sie angefangen haben\, was sie gelernt haben und w
 arum Kommunalpolitik mehr Rock’n’Roll ist\, als man denkt.\n\nDie Wah
 rheit ist: Politik ist kein exklusiver Club für Juristen und Verwaltungs
 profis. Kommunalpolitik lebt von Menschen mit Herzblut\, Ideen und Tatend
 rang – also genau von Leuten wie dir!\n\nNoch nicht überzeugt? Dann ko
 mm vorbei!\n\nWir laden dich herzlich ein zu einer offenen Gesprächsrund
 e mit engagierten Kommunalpolitikerinnen und -politikern aus deiner Regio
 n. Keine steifen Reden\, keine Fachchinesisch-Debatten – einfach ein lo
 ckerer Austausch über das\, was wirklich zählt: Deine Stadt\, dein Vier
 tel\, deine Ideen.\n\nKomm vorbei\, stell deine Fragen\, erfahre aus erst
 er Hand\, wie du mitgestalten kannst. Und wer weiß? Vielleicht stehst du
  ja bei der nächsten Wahl selbst auf dem Wahlzettel!\n\nDenn eines ist s
 icher: Wenn du dich nicht einmischst\, machen’s andere.
CLASS:PUBLIC
DTSTART;TZID=Europe/Berlin:20250311T193000
DTEND;TZID=Europe/Berlin:20250311T210000
DTSTAMP:20260421T071114
END:VEVENT
END:VCALENDAR